Package: bcSeq Version: 1.24.0 Command: /Library/Frameworks/R.framework/Resources/bin/R CMD build --keep-empty-dirs --no-resave-data bcSeq StartedAt: 2024-03-03 15:57:31 -0500 (Sun, 03 Mar 2024) EndedAt: 2024-03-03 15:58:46 -0500 (Sun, 03 Mar 2024) EllapsedTime: 74.8 seconds RetCode: 0 Status: OK PackageFile: bcSeq_1.24.0.tar.gz PackageFileSize: 241 KiB