Package: baySeq Version: 2.36.2 Command: rm -rf baySeq.buildbin-libdir && mkdir baySeq.buildbin-libdir && F:\biocbuild\bbs-3.18-bioc\R\bin\R.exe CMD INSTALL --build --library=baySeq.buildbin-libdir baySeq_2.36.2.tar.gz StartedAt: 2024-04-16 06:40:49 -0400 (Tue, 16 Apr 2024) EndedAt: 2024-04-16 06:41:16 -0400 (Tue, 16 Apr 2024) EllapsedTime: 26.9 seconds RetCode: 0 Status: OK PackageFile: baySeq_2.36.2.zip PackageFileSize: 1.616 MiB