Package: baySeq Version: 2.36.2 Command: /home/biocbuild/bbs-3.18-bioc/R/bin/R CMD check --install=check:baySeq.install-out.txt --library=/home/biocbuild/bbs-3.18-bioc/R/site-library --timings baySeq_2.36.2.tar.gz StartedAt: 2024-04-15 20:18:40 -0400 (Mon, 15 Apr 2024) EndedAt: 2024-04-15 20:32:39 -0400 (Mon, 15 Apr 2024) EllapsedTime: 839.2 seconds RetCode: 0 Status: OK CheckDir: baySeq.Rcheck Warnings: 0