Package: baySeq Version: 2.36.2 Command: /Library/Frameworks/R.framework/Resources/bin/R CMD INSTALL baySeq StartedAt: 2024-04-15 15:13:00 -0400 (Mon, 15 Apr 2024) EndedAt: 2024-04-15 15:13:49 -0400 (Mon, 15 Apr 2024) EllapsedTime: 49.2 seconds RetCode: 0 Status: OK