Package: baySeq Version: 2.36.2 Command: /Library/Frameworks/R.framework/Resources/bin/R CMD build --keep-empty-dirs --no-resave-data baySeq StartedAt: 2024-04-15 17:02:45 -0400 (Mon, 15 Apr 2024) EndedAt: 2024-04-15 17:21:41 -0400 (Mon, 15 Apr 2024) EllapsedTime: 1135.9 seconds RetCode: 0 Status: OK PackageFile: baySeq_2.36.2.tar.gz PackageFileSize: 1.122 MiB