Package: baySeq Version: 2.36.2 Command: rm -rf baySeq.buildbin-libdir && mkdir baySeq.buildbin-libdir && /Users/biocbuild/BBS/utils/build-universal.sh baySeq_2.36.2.tar.gz /Library/Frameworks/R.framework/Resources/bin/R baySeq.buildbin-libdir StartedAt: 2024-04-16 11:02:35 -0400 (Tue, 16 Apr 2024) EndedAt: 2024-04-16 11:03:39 -0400 (Tue, 16 Apr 2024) EllapsedTime: 64.0 seconds RetCode: 0 Status: OK PackageFile: baySeq_2.36.2.tgz PackageFileSize: 1.611 MiB