Package: baySeq Version: 2.36.0 Command: /Library/Frameworks/R.framework/Resources/bin/R CMD INSTALL baySeq StartedAt: 2024-03-03 15:08:31 -0500 (Sun, 03 Mar 2024) EndedAt: 2024-03-03 15:08:58 -0500 (Sun, 03 Mar 2024) EllapsedTime: 27.0 seconds RetCode: 0 Status: OK