Package: baySeq Version: 2.36.0 Command: rm -rf baySeq.buildbin-libdir && mkdir baySeq.buildbin-libdir && /Users/biocbuild/BBS/utils/build-universal.sh baySeq_2.36.0.tar.gz /Library/Frameworks/R.framework/Resources/bin/R baySeq.buildbin-libdir StartedAt: 2024-03-04 00:29:59 -0500 (Mon, 04 Mar 2024) EndedAt: 2024-03-04 00:30:28 -0500 (Mon, 04 Mar 2024) EllapsedTime: 29.0 seconds RetCode: 0 Status: OK PackageFile: baySeq_2.36.0.tgz PackageFileSize: 1.61 MiB