Package: baySeq Version: 2.36.0 Command: /home/biocbuild/R/R-4.3.1/bin/R CMD check --install=check:baySeq.install-out.txt --library=/home/biocbuild/R/R-4.3.1/site-library --no-vignettes --timings baySeq_2.36.0.tar.gz StartedAt: 2023-11-02 08:33:10 -0000 (Thu, 02 Nov 2023) EndedAt: 2023-11-02 08:37:27 -0000 (Thu, 02 Nov 2023) EllapsedTime: 256.8 seconds RetCode: 0 Status: WARNINGS CheckDir: baySeq.Rcheck Warnings: 1