Package: baySeq Version: 2.36.0 Command: /home/biocbuild/R/R-4.3.1/bin/R CMD build --keep-empty-dirs --no-resave-data baySeq StartedAt: 2023-11-01 22:29:23 -0000 (Wed, 01 Nov 2023) EndedAt: 2023-11-01 22:38:54 -0000 (Wed, 01 Nov 2023) EllapsedTime: 570.7 seconds RetCode: 0 Status: OK PackageFile: baySeq_2.36.0.tar.gz PackageFileSize: 1.092 MiB