Package: bayNorm Version: 1.20.0 Command: /Library/Frameworks/R.framework/Resources/bin/R CMD build --keep-empty-dirs --no-resave-data bayNorm StartedAt: 2024-03-03 15:57:24 -0500 (Sun, 03 Mar 2024) EndedAt: 2024-03-03 15:58:43 -0500 (Sun, 03 Mar 2024) EllapsedTime: 78.3 seconds RetCode: 0 Status: OK PackageFile: bayNorm_1.20.0.tar.gz PackageFileSize: 1.526 MiB