Package: basilisk Version: 1.14.3 Command: /home/biocbuild/bbs-3.18-bioc/R/bin/R CMD build --keep-empty-dirs --no-resave-data basilisk StartedAt: 2024-04-15 16:04:00 -0400 (Mon, 15 Apr 2024) EndedAt: 2024-04-15 16:09:42 -0400 (Mon, 15 Apr 2024) EllapsedTime: 342.8 seconds RetCode: 0 Status: OK PackageFile: basilisk_1.14.3.tar.gz PackageFileSize: 261.8 KiB