Package: barcodetrackR Version: 1.10.0 Command: /home/biocbuild/bbs-3.18-bioc/R/bin/R CMD INSTALL barcodetrackR StartedAt: 2024-04-15 15:32:32 -0400 (Mon, 15 Apr 2024) EndedAt: 2024-04-15 15:32:57 -0400 (Mon, 15 Apr 2024) EllapsedTime: 25.5 seconds RetCode: 0 Status: OK