Package: barcodetrackR Version: 1.10.0 Command: /Library/Frameworks/R.framework/Resources/bin/R CMD build --keep-empty-dirs --no-resave-data barcodetrackR StartedAt: 2024-04-15 17:00:28 -0400 (Mon, 15 Apr 2024) EndedAt: 2024-04-15 17:03:20 -0400 (Mon, 15 Apr 2024) EllapsedTime: 171.8 seconds RetCode: 0 Status: OK PackageFile: barcodetrackR_1.10.0.tar.gz PackageFileSize: 3.427 MiB