Package: bandle Version: 1.6.0 Command: /home/biocbuild/bbs-3.18-bioc/R/bin/R CMD build --keep-empty-dirs --no-resave-data bandle StartedAt: 2024-04-15 16:03:11 -0400 (Mon, 15 Apr 2024) EndedAt: 2024-04-15 16:10:34 -0400 (Mon, 15 Apr 2024) EllapsedTime: 443.2 seconds RetCode: 0 Status: OK PackageFile: bandle_1.6.0.tar.gz PackageFileSize: 1.531 MiB