Package: bandle Version: 1.6.0 Command: /Library/Frameworks/R.framework/Resources/bin/R CMD build --keep-empty-dirs --no-resave-data bandle StartedAt: 2024-04-15 17:00:12 -0400 (Mon, 15 Apr 2024) EndedAt: 2024-04-15 17:10:59 -0400 (Mon, 15 Apr 2024) EllapsedTime: 646.5 seconds RetCode: 0 Status: OK PackageFile: bandle_1.6.0.tar.gz PackageFileSize: 1.942 MiB