Package: bandle Version: 1.6.0 Command: rm -rf bandle.buildbin-libdir && mkdir bandle.buildbin-libdir && /Users/biocbuild/BBS/utils/build-universal.sh bandle_1.6.0.tar.gz /Library/Frameworks/R.framework/Resources/bin/R bandle.buildbin-libdir StartedAt: 2024-04-16 11:01:18 -0400 (Tue, 16 Apr 2024) EndedAt: 2024-04-16 11:05:54 -0400 (Tue, 16 Apr 2024) EllapsedTime: 275.4 seconds RetCode: 0 Status: OK PackageFile: bandle_1.6.0.tgz PackageFileSize: 2.746 MiB