Package: bandle Version: 1.6.0 Command: /Library/Frameworks/R.framework/Resources/bin/R CMD INSTALL bandle StartedAt: 2024-03-03 15:38:34 -0500 (Sun, 03 Mar 2024) EndedAt: 2024-03-03 15:40:32 -0500 (Sun, 03 Mar 2024) EllapsedTime: 117.3 seconds RetCode: 0 Status: OK