Package: bandle Version: 1.6.0 Command: rm -rf bandle.buildbin-libdir && mkdir bandle.buildbin-libdir && /Users/biocbuild/BBS/utils/build-universal.sh bandle_1.6.0.tar.gz /Library/Frameworks/R.framework/Resources/bin/R bandle.buildbin-libdir StartedAt: 2024-03-04 00:29:42 -0500 (Mon, 04 Mar 2024) EndedAt: 2024-03-04 00:31:43 -0500 (Mon, 04 Mar 2024) EllapsedTime: 121.7 seconds RetCode: 0 Status: OK PackageFile: bandle_1.6.0.tgz PackageFileSize: 2.406 MiB