Package: bandle Version: 1.6.0 Command: /home/biocbuild/R/R-4.3.1/bin/R CMD check --install=check:bandle.install-out.txt --library=/home/biocbuild/R/R-4.3.1/site-library --no-vignettes --timings bandle_1.6.0.tar.gz StartedAt: 2023-11-02 08:29:43 -0000 (Thu, 02 Nov 2023) EndedAt: 2023-11-02 08:38:06 -0000 (Thu, 02 Nov 2023) EllapsedTime: 503.2 seconds RetCode: 1 Status: ERROR CheckDir: bandle.Rcheck Warnings: NA