Package: bandle Version: 1.6.0 Command: /home/biocbuild/R/R-4.3.1/bin/R CMD build --keep-empty-dirs --no-resave-data bandle StartedAt: 2023-11-01 22:25:36 -0000 (Wed, 01 Nov 2023) EndedAt: 2023-11-01 22:34:54 -0000 (Wed, 01 Nov 2023) EllapsedTime: 557.7 seconds RetCode: 0 Status: OK PackageFile: bandle_1.6.0.tar.gz PackageFileSize: 1.727 MiB