Package: bambu Version: 3.4.1 Command: /home/biocbuild/bbs-3.18-bioc/R/bin/R CMD check --install=check:bambu.install-out.txt --library=/home/biocbuild/bbs-3.18-bioc/R/site-library --timings bambu_3.4.1.tar.gz StartedAt: 2024-04-15 20:12:19 -0400 (Mon, 15 Apr 2024) EndedAt: 2024-04-15 20:44:02 -0400 (Mon, 15 Apr 2024) EllapsedTime: 1903.2 seconds RetCode: 0 Status: OK CheckDir: bambu.Rcheck Warnings: 0