Package: bambu Version: 3.4.0 Command: /Library/Frameworks/R.framework/Resources/bin/R CMD INSTALL bambu StartedAt: 2024-03-03 15:19:39 -0500 (Sun, 03 Mar 2024) EndedAt: 2024-03-03 15:20:59 -0500 (Sun, 03 Mar 2024) EllapsedTime: 79.7 seconds RetCode: 0 Status: OK