Package: bambu Version: 3.4.0 Command: /home/biocbuild/R/R-4.3.1/bin/R CMD INSTALL bambu StartedAt: 2023-11-01 20:28:01 -0000 (Wed, 01 Nov 2023) EndedAt: 2023-11-01 20:29:34 -0000 (Wed, 01 Nov 2023) EllapsedTime: 92.9 seconds RetCode: 0 Status: OK