Package: ballgown Version: 2.34.0 Command: /home/biocbuild/R/R-4.3.1/bin/R CMD build --keep-empty-dirs --no-resave-data ballgown StartedAt: 2023-11-01 22:24:24 -0000 (Wed, 01 Nov 2023) EndedAt: 2023-11-01 22:25:34 -0000 (Wed, 01 Nov 2023) EllapsedTime: 70.1 seconds RetCode: 0 Status: OK PackageFile: ballgown_2.34.0.tar.gz PackageFileSize: 3.037 MiB