Package: arrayQuality Version: 1.80.0 Command: chmod a+r arrayQuality -R && F:\biocbuild\bbs-3.18-bioc\R\bin\R.exe CMD build --keep-empty-dirs --no-resave-data arrayQuality StartedAt: 2024-04-15 16:58:34 -0400 (Mon, 15 Apr 2024) EndedAt: 2024-04-15 16:58:46 -0400 (Mon, 15 Apr 2024) EllapsedTime: 12.3 seconds RetCode: 0 Status: OK PackageFile: arrayQuality_1.80.0.tar.gz PackageFileSize: 12.82 MiB