Package: appreci8R Version: 1.20.2 Command: chmod a+r appreci8R -R && F:\biocbuild\bbs-3.18-bioc\R\bin\R.exe CMD build --keep-empty-dirs --no-resave-data appreci8R StartedAt: 2024-04-15 16:58:24 -0400 (Mon, 15 Apr 2024) EndedAt: 2024-04-15 17:01:47 -0400 (Mon, 15 Apr 2024) EllapsedTime: 203.0 seconds RetCode: 0 Status: OK PackageFile: appreci8R_1.20.2.tar.gz PackageFileSize: 892.3 KiB