Package: appreci8R Version: 1.20.2 Command: rm -rf appreci8R.buildbin-libdir && mkdir appreci8R.buildbin-libdir && F:\biocbuild\bbs-3.18-bioc\R\bin\R.exe CMD INSTALL --build --library=appreci8R.buildbin-libdir appreci8R_1.20.2.tar.gz StartedAt: 2024-04-16 06:39:04 -0400 (Tue, 16 Apr 2024) EndedAt: 2024-04-16 06:40:42 -0400 (Tue, 16 Apr 2024) EllapsedTime: 98.2 seconds RetCode: 0 Status: OK PackageFile: appreci8R_1.20.2.zip PackageFileSize: 1.342 MiB