Package: appreci8R Version: 1.20.2 Command: /Library/Frameworks/R.framework/Resources/bin/R CMD build --keep-empty-dirs --no-resave-data appreci8R StartedAt: 2024-03-03 15:53:16 -0500 (Sun, 03 Mar 2024) EndedAt: 2024-03-03 15:56:39 -0500 (Sun, 03 Mar 2024) EllapsedTime: 203.5 seconds RetCode: 0 Status: OK PackageFile: appreci8R_1.20.2.tar.gz PackageFileSize: 1012 KiB