Package: appreci8R Version: 1.20.2 Command: rm -rf appreci8R.buildbin-libdir && mkdir appreci8R.buildbin-libdir && /Users/biocbuild/BBS/utils/build-universal.sh appreci8R_1.20.2.tar.gz /Library/Frameworks/R.framework/Resources/bin/R appreci8R.buildbin-libdir StartedAt: 2024-03-04 00:29:06 -0500 (Mon, 04 Mar 2024) EndedAt: 2024-03-04 00:30:55 -0500 (Mon, 04 Mar 2024) EllapsedTime: 108.5 seconds RetCode: 0 Status: OK PackageFile: appreci8R_1.20.2.tgz PackageFileSize: 1.457 MiB