Package: appreci8R Version: 1.20.0 Command: /home/biocbuild/R/R-4.3.1/bin/R CMD INSTALL appreci8R StartedAt: 2023-11-01 21:07:28 -0000 (Wed, 01 Nov 2023) EndedAt: 2023-11-01 21:09:45 -0000 (Wed, 01 Nov 2023) EllapsedTime: 136.9 seconds RetCode: 0 Status: OK