Package: apeglm Version: 1.24.0 Command: rm -rf apeglm.buildbin-libdir && mkdir apeglm.buildbin-libdir && /Users/biocbuild/BBS/utils/build-universal.sh apeglm_1.24.0.tar.gz /Library/Frameworks/R.framework/Resources/bin/R apeglm.buildbin-libdir StartedAt: 2024-04-16 10:59:25 -0400 (Tue, 16 Apr 2024) EndedAt: 2024-04-16 11:02:34 -0400 (Tue, 16 Apr 2024) EllapsedTime: 189.4 seconds RetCode: 0 Status: OK PackageFile: apeglm_1.24.0.tgz PackageFileSize: 1.398 MiB