Package: apeglm Version: 1.24.0 Command: /home/biocbuild/R/R-4.3.1/bin/R CMD INSTALL apeglm StartedAt: 2023-11-01 20:17:13 -0000 (Wed, 01 Nov 2023) EndedAt: 2023-11-01 20:18:48 -0000 (Wed, 01 Nov 2023) EllapsedTime: 94.3 seconds RetCode: 0 Status: OK