Package: apComplex Version: 2.68.0 Command: /home/biocbuild/bbs-3.18-bioc/R/bin/R CMD build --keep-empty-dirs --no-resave-data apComplex StartedAt: 2024-04-15 15:59:00 -0400 (Mon, 15 Apr 2024) EndedAt: 2024-04-15 15:59:20 -0400 (Mon, 15 Apr 2024) EllapsedTime: 20.8 seconds RetCode: 0 Status: OK PackageFile: apComplex_2.68.0.tar.gz PackageFileSize: 627.3 KiB