Package: anota2seq Version: 1.24.0 Command: /Library/Frameworks/R.framework/Resources/bin/R CMD INSTALL anota2seq StartedAt: 2024-03-03 15:34:46 -0500 (Sun, 03 Mar 2024) EndedAt: 2024-03-03 15:35:31 -0500 (Sun, 03 Mar 2024) EllapsedTime: 44.4 seconds RetCode: 0 Status: OK