Package: annotatr Version: 1.28.0 Command: /home/biocbuild/R/R-4.3.1/bin/R CMD check --install=check:annotatr.install-out.txt --library=/home/biocbuild/R/R-4.3.1/site-library --no-vignettes --timings annotatr_1.28.0.tar.gz StartedAt: 2023-11-02 08:20:03 -0000 (Thu, 02 Nov 2023) EndedAt: 2023-11-02 08:29:06 -0000 (Thu, 02 Nov 2023) EllapsedTime: 542.7 seconds RetCode: 1 Status: ERROR CheckDir: annotatr.Rcheck Warnings: NA