Package: annmap Version: 1.44.0 Command: /home/biocbuild/bbs-3.18-bioc/R/bin/R CMD check --install=check:annmap.install-out.txt --library=/home/biocbuild/bbs-3.18-bioc/R/site-library --timings annmap_1.44.0.tar.gz StartedAt: 2024-04-15 20:01:19 -0400 (Mon, 15 Apr 2024) EndedAt: 2024-04-15 20:04:06 -0400 (Mon, 15 Apr 2024) EllapsedTime: 167.2 seconds RetCode: 0 Status: WARNINGS CheckDir: annmap.Rcheck Warnings: 1