Package: annaffy Version: 1.74.0 Command: /Library/Frameworks/R.framework/Resources/bin/R CMD check --install=check:annaffy.install-out.txt --library=/Library/Frameworks/R.framework/Resources/library --no-vignettes --timings annaffy_1.74.0.tar.gz StartedAt: 2024-03-03 18:54:49 -0500 (Sun, 03 Mar 2024) EndedAt: 2024-03-03 18:57:09 -0500 (Sun, 03 Mar 2024) EllapsedTime: 140.0 seconds RetCode: 0 Status: WARNINGS CheckDir: annaffy.Rcheck Warnings: 1