Package: alpine Version: 1.25.0 Command: F:\biocbuild\bbs-3.18-bioc\R\bin\R.exe CMD INSTALL alpine StartedAt: 2023-04-21 17:22:28 -0400 (Fri, 21 Apr 2023) EndedAt: 2023-04-21 17:22:28 -0400 (Fri, 21 Apr 2023) EllapsedTime: 0.4 seconds RetCode: 1 Status: ERROR