############################################################################## ############################################################################## ### ### Running command: ### ### /home/biocbuild/bbs-3.18-bioc/R/bin/R CMD build --keep-empty-dirs --no-resave-data alpine ### ############################################################################## ############################################################################## * checking for file ‘alpine/DESCRIPTION’ ... OK * preparing ‘alpine’: * checking DESCRIPTION meta-information ... OK * installing the package to build vignettes ----------------------------------- ERROR: dependency ‘speedglm’ is not available for package ‘alpine’ * removing ‘/tmp/RtmpIu72gw/Rinst27decc50a506b8/alpine’ ----------------------------------- ERROR: package installation failed