Package: alpine Version: 1.25.0 Command: /Library/Frameworks/R.framework/Resources/bin/R CMD INSTALL alpine StartedAt: 2023-04-23 15:41:58 -0400 (Sun, 23 Apr 2023) EndedAt: 2023-04-23 15:41:58 -0400 (Sun, 23 Apr 2023) EllapsedTime: 0.3 seconds RetCode: 1 Status: ERROR