Package: alevinQC Version: 1.18.1 Command: rm -rf alevinQC.buildbin-libdir && mkdir alevinQC.buildbin-libdir && F:\biocbuild\bbs-3.18-bioc\R\bin\R.exe CMD INSTALL --build --library=alevinQC.buildbin-libdir alevinQC_1.18.1.tar.gz StartedAt: 2024-04-16 06:37:58 -0400 (Tue, 16 Apr 2024) EndedAt: 2024-04-16 06:38:32 -0400 (Tue, 16 Apr 2024) EllapsedTime: 34.7 seconds RetCode: 0 Status: OK PackageFile: alevinQC_1.18.1.zip PackageFileSize: 7.752 MiB