Package: alevinQC Version: 1.18.1 Command: /Library/Frameworks/R.framework/Resources/bin/R CMD INSTALL alevinQC StartedAt: 2024-04-15 15:44:21 -0400 (Mon, 15 Apr 2024) EndedAt: 2024-04-15 15:44:52 -0400 (Mon, 15 Apr 2024) EllapsedTime: 31.6 seconds RetCode: 0 Status: OK