Package: alevinQC Version: 1.18.1 Command: /Library/Frameworks/R.framework/Resources/bin/R CMD build --keep-empty-dirs --no-resave-data alevinQC StartedAt: 2024-04-15 16:51:02 -0400 (Mon, 15 Apr 2024) EndedAt: 2024-04-15 16:52:28 -0400 (Mon, 15 Apr 2024) EllapsedTime: 85.9 seconds RetCode: 0 Status: OK PackageFile: alevinQC_1.18.1.tar.gz PackageFileSize: 7.603 MiB