Package: alabaster Version: 1.2.0 Command: /home/biocbuild/R/R-4.3.1/bin/R CMD INSTALL alabaster StartedAt: 2023-11-01 20:55:43 -0000 (Wed, 01 Nov 2023) EndedAt: 2023-11-01 20:56:51 -0000 (Wed, 01 Nov 2023) EllapsedTime: 67.9 seconds RetCode: 0 Status: OK