Package: alabaster Version: 1.2.0 Command: /home/biocbuild/R/R-4.3.1/bin/R CMD check --install=check:alabaster.install-out.txt --library=/home/biocbuild/R/R-4.3.1/site-library --no-vignettes --timings alabaster_1.2.0.tar.gz StartedAt: 2023-11-02 08:14:06 -0000 (Thu, 02 Nov 2023) EndedAt: 2023-11-02 08:19:28 -0000 (Thu, 02 Nov 2023) EllapsedTime: 322.7 seconds RetCode: 0 Status: WARNINGS CheckDir: alabaster.Rcheck Warnings: 3