Package: alabaster.string Version: 1.2.0 Command: /Library/Frameworks/R.framework/Resources/bin/R CMD build --keep-empty-dirs --no-resave-data alabaster.string StartedAt: 2024-04-15 16:50:43 -0400 (Mon, 15 Apr 2024) EndedAt: 2024-04-15 16:51:20 -0400 (Mon, 15 Apr 2024) EllapsedTime: 37.2 seconds RetCode: 0 Status: OK PackageFile: alabaster.string_1.2.0.tar.gz PackageFileSize: 219.7 KiB