Package: alabaster.spatial Version: 1.2.0 Command: /Library/Frameworks/R.framework/Resources/bin/R CMD build --keep-empty-dirs --no-resave-data alabaster.spatial StartedAt: 2024-03-03 15:51:23 -0500 (Sun, 03 Mar 2024) EndedAt: 2024-03-03 15:52:16 -0500 (Sun, 03 Mar 2024) EllapsedTime: 53.0 seconds RetCode: 0 Status: OK PackageFile: alabaster.spatial_1.2.0.tar.gz PackageFileSize: 626.9 KiB