Package: alabaster.spatial Version: 1.2.0 Command: rm -rf alabaster.spatial.buildbin-libdir && mkdir alabaster.spatial.buildbin-libdir && /Users/biocbuild/BBS/utils/build-universal.sh alabaster.spatial_1.2.0.tar.gz /Library/Frameworks/R.framework/Resources/bin/R alabaster.spatial.buildbin-libdir StartedAt: 2024-03-04 00:28:25 -0500 (Mon, 04 Mar 2024) EndedAt: 2024-03-04 00:29:06 -0500 (Mon, 04 Mar 2024) EllapsedTime: 40.7 seconds RetCode: 0 Status: OK PackageFile: alabaster.spatial_1.2.0.tgz PackageFileSize: 732 KiB