Package: alabaster.se Version: 1.2.0 Command: F:\biocbuild\bbs-3.18-bioc\R\bin\R.exe CMD INSTALL alabaster.se StartedAt: 2024-04-15 16:36:45 -0400 (Mon, 15 Apr 2024) EndedAt: 2024-04-15 16:37:16 -0400 (Mon, 15 Apr 2024) EllapsedTime: 31.0 seconds RetCode: 0 Status: OK